BEGIN:VCALENDAR
VERSION:2.0
PRODID:-//Drupal iCal API//EN
X-WR-TIMEZONE:America/New_York
BEGIN:VTIMEZONE
TZID:America/New_York
X-LIC-LOCATION:America/New_York
BEGIN:DAYLIGHT
TZNAME:EDT
TZOFFSETFROM:-0500
TZOFFSETTO:-0400
DTSTART:20260308T070000
END:DAYLIGHT
BEGIN:STANDARD
TZNAME:EST
TZOFFSETFROM:-0400
TZOFFSETTO:-0500
DTSTART:20251102T060000
END:STANDARD
END:VTIMEZONE
BEGIN:VEVENT
UID:ebd0ddfb-d92d-4d3b-8866-fe76a11850bf
DTSTART;TZID=America/New_York:20260518T180000
SEQUENCE:0
TRANSP:TRANSPARENT
DTEND;TZID=America/New_York:20260518T210000
SUMMARY:TOWN OF FORT WHITE TOWN COUNCIL MEETING MAY 18\, 2026 at 6 PM
CLASS:PUBLIC
DTSTAMP:20260424T073037Z
END:VEVENT
END:VCALENDAR